BEGIN:VCALENDAR
VERSION:2.0
PRODID:-//Tukios.com/
BEGIN:VEVENT
UID:18a86a5b-a632-4bd8-829a-8ac381744184@www.jhjonesfuneralhome.com
DTSTAMP:20260422T025308Z
DTSTART:20260423T170000Z
DTEND:20260423T230000Z
SUMMARY:Visitation with Family
DESCRIPTION:
URL:https://www.jhjonesfuneralhome.com/obituaries/minister-mary-reaves
LOCATION:Family Home 122 Allen Dr  Milledgeville GA 31061
GEO:33.0603546;-83.2430587
END:VEVENT
END:VCALENDAR