BEGIN:VCALENDAR
VERSION:2.0
PRODID:-//Tukios.com/
BEGIN:VEVENT
UID:60af836a-5913-493d-a0da-c2c559fb42b6@www.jhjonesfuneralhome.com
DTSTAMP:20260422T025755Z
DTSTART:20260424T140000Z
DTEND:20260424T230000Z
SUMMARY:Visitation
DESCRIPTION:
URL:https://www.jhjonesfuneralhome.com/obituaries/minister-mary-reaves
LOCATION: 1213 North Columbia Drive  Milledgeville GA 31061
GEO:33.093477;-83.239956
END:VEVENT
END:VCALENDAR