BEGIN:VCALENDAR
VERSION:2.0
PRODID:-//Tukios.com/
BEGIN:VEVENT
UID:a069c6cc-e4e7-4cd6-be8a-0e8dafb73d98@www.jhjonesfuneralhome.com
DTSTAMP:20260422T025616Z
DTSTART:20260425T160000Z
DTEND:20260425T170000Z
SUMMARY:Interment
DESCRIPTION:
URL:https://www.jhjonesfuneralhome.com/obituaries/minister-mary-reaves
LOCATION:County Line Road County Line Rd  Haddock321 GA 31033
GEO:32.9773589;-83.3817451
END:VEVENT
END:VCALENDAR