BEGIN:VCALENDAR
VERSION:2.0
PRODID:-//Tukios.com/
BEGIN:VEVENT
UID:32187b87-00d1-46ab-8c84-3c30d5a88e26@www.jhjonesfuneralhome.com
DTSTAMP:20260422T025739Z
DTSTART:20260425T160000Z
DTEND:20260425T170000Z
SUMMARY:Funeral Service
DESCRIPTION:
URL:https://www.jhjonesfuneralhome.com/obituaries/minister-mary-reaves
LOCATION:County Line Baptist Church 1012 Georgia 49  Haddock GA 31033
GEO:33.0032499;-83.3649664
END:VEVENT
END:VCALENDAR